BEGIN:VCALENDAR
VERSION:2.0
BEGIN:VEVENT
URL:https://sixbynine.oztix.com.au/outlet/event/e36c2e56-da28-4400-88cc-fe8ac4e892fd
DTSTART:20260927T060000Z
DTEND:20260927T060000Z
SUMMARY:FREOPALOOZA | The Ultimate 90s Tribute Festival | SUPER SUNDAY!
DESCRIPTION:Event details: https://sixbynine.oztix.com.au/outlet/event/e36c2e56-da28-4400-88cc-fe8ac4e892fd
LOCATION:Port Beach Brewery (North Fremantle, WA)
END:VEVENT
END:VCALENDAR